BEGIN:VCALENDAR
VERSION:2.0
PRODID:-//| DEFAF e.V. - ECPv6.15.20//NONSGML v1.0//EN
CALSCALE:GREGORIAN
METHOD:PUBLISH
X-ORIGINAL-URL:https://agroforst-info.de
X-WR-CALDESC:Veranstaltungen für | DEFAF e.V.
REFRESH-INTERVAL;VALUE=DURATION:PT1H
X-Robots-Tag:noindex
X-PUBLISHED-TTL:PT1H
BEGIN:VTIMEZONE
TZID:Europe/Berlin
BEGIN:DAYLIGHT
TZOFFSETFROM:+0100
TZOFFSETTO:+0200
TZNAME:CEST
DTSTART:20250330T010000
END:DAYLIGHT
BEGIN:STANDARD
TZOFFSETFROM:+0200
TZOFFSETTO:+0100
TZNAME:CET
DTSTART:20251026T010000
END:STANDARD
BEGIN:DAYLIGHT
TZOFFSETFROM:+0100
TZOFFSETTO:+0200
TZNAME:CEST
DTSTART:20260329T010000
END:DAYLIGHT
BEGIN:STANDARD
TZOFFSETFROM:+0200
TZOFFSETTO:+0100
TZNAME:CET
DTSTART:20261025T010000
END:STANDARD
BEGIN:DAYLIGHT
TZOFFSETFROM:+0100
TZOFFSETTO:+0200
TZNAME:CEST
DTSTART:20270328T010000
END:DAYLIGHT
BEGIN:STANDARD
TZOFFSETFROM:+0200
TZOFFSETTO:+0100
TZNAME:CET
DTSTART:20271031T010000
END:STANDARD
BEGIN:DAYLIGHT
TZOFFSETFROM:+0100
TZOFFSETTO:+0200
TZNAME:CEST
DTSTART:20280326T010000
END:DAYLIGHT
BEGIN:STANDARD
TZOFFSETFROM:+0200
TZOFFSETTO:+0100
TZNAME:CET
DTSTART:20281029T010000
END:STANDARD
END:VTIMEZONE
BEGIN:VEVENT
DTSTART;TZID=Europe/Berlin:20260616T140000
DTEND;TZID=Europe/Berlin:20260616T170000
DTSTAMP:20260423T010251
CREATED:20260415T092547Z
LAST-MODIFIED:20260415T092547Z
UID:39006-1781618400-1781629200@agroforst-info.de
SUMMARY:Agroforstsysteme – eine praktische Exkursion von der Forschung bis zur Umsetzung im Feld
DESCRIPTION:Wann: Dienstag\, 16.06.2026\, 14:00 – 17:00 Uhr \nWo: Treffpunkt: Versuchsflächen des Trockenforschungszentrums für Landwirtschaft in Trockenlagen (Google-Koordinaten: 49.814102\, 10.209431) \nZielgruppe: Landwirtinnen und Landwirte\, Flächeneigentümerinnen und -eigentümer\, interessierte Bürgerinnen und Bürger \nWer: Umweltstation in Kooperation mit AELF Kitzingen-Würzburg und LWF; Dr. Frank Burger (LWF)\, Andrea Winterling (LfL)\, Elisabeth Siller (AELF)\, André Mellinger (Landwirt) \nAnmeldung: keine Anmeldung notwendig \nTN-Gebühr: kostenfrei \nWie können wir Starkregen und Dürre in der Landwirtschaft begegnen? Agroforstsysteme\, die Bäume und Nahrungsmittel auf derselben Fläche verbinden\, bieten eine Lösung. Doch welche Gehölze sind in unserer Region überhaupt noch zukunftsfähig? Bei dieser Exkursion besichtigen wir die Agroforst-Versuchsflächen des Forschungszentrums in Trockenlagen und eine landwirtschaftliche Fläche im Landkreis Kitzingen\, auf der ein Agroforstsystem angelegt wurde.
URL:https://agroforst-info.de/event/agroforstsysteme-eine-praktische-exkursion-von-der-forschung-bis-zur-umsetzung-im-feld/
LOCATION:Versuchsflächen des Trockenforschungszentrums für Landwirtschaft in Trockenlagen\, 49.814102\, 10.209431
ORGANIZER;CN="Umweltstation Kitzinger Land":MAILTO:info-umweltstation@kitzingen.de
END:VEVENT
BEGIN:VEVENT
DTSTART;TZID=Europe/Berlin:20260620T143000
DTEND;TZID=Europe/Berlin:20260620T160000
DTSTAMP:20260423T010251
CREATED:20260223T121151Z
LAST-MODIFIED:20260223T121151Z
UID:37790-1781965800-1781971200@agroforst-info.de
SUMMARY:Waldgartenführung - Hof an den Teichen Lüneburg
DESCRIPTION:Entdecke den Waldgarten in Lüneburg \nDer Hof an den Teichen lädt herzlich zur nächsten Waldgarten-Führung ein! \nWann? Samstag\, 25. April\, 14:30–16:00 Uhr \nWer? Dr. Agnes Friedel von der Leuphana Universität Lüneburg\, die das Projekt wissenschaftlich begleitet\nTickets: https://www.lueneburgtickets.de/orte/hof-an-den-teichen \nDer Teilnahme-Beitrag fließt zu 100 % in den Aufbau und die Pflege des Waldgartens. \nDas Waldgartenprojekt zeigt\, wie mehrschichtig angelegte Systeme aus Obst- und Nussbäumen\, Beerensträuchern\, Kräutern und Bodendeckern den Aufbau eines Waldes nachahmen und damit zu Artenvielfalt\, gesundem Bodenleben und CO2-Bindung beitragen. Seit Oktober 2021 transformiert die Lüneburger Campus Stiftung einen Hektar Ackerland mit bodenverbessernden Maßnahmen. \nKomm vorbei und lass Dich von den Möglichkeiten eines Waldgartens inspirieren!
URL:https://agroforst-info.de/event/waldgartenfuehrung-hof-an-den-teichen-lueneburg-2/
LOCATION:Hof an den Teichen\, Heiligenthaler Str. 1\, Lüneburg\, 21335
ORGANIZER;CN="Campus Stiftung":MAILTO:bohlmann@campusstiftung.de
END:VEVENT
BEGIN:VEVENT
DTSTART;VALUE=DATE:20260622
DTEND;VALUE=DATE:20260627
DTSTAMP:20260423T010251
CREATED:20250915T080806Z
LAST-MODIFIED:20250915T080806Z
UID:33112-1782086400-1782518399@agroforst-info.de
SUMMARY:8. Europäische Agroforst-Konferenz EURAF 2026
DESCRIPTION:Alle zwei Jahre diskutieren mehr als 400 Wissenschaftler\, politische Entscheidungsträger und Landwirte über die neuesten Fortschritte in der Agroforstwirtschaft auf der europäischen Agroforstkonferenz EURAF\, die im Jahr 2026 in Neuchâtel in der Schweiz stattfinden wird. \nDie Ziele des Kongresses sind: \n\nWissenschaftler\, Landwirte und politische Entscheidungsträger miteinander zu verbinden\ndas Know-how über Agroforstwirtschaft durch grenzüberschreitendes Lernen zu erweitern\ndie Anpflanzung von Bäumen auf landwirtschaftlichen Flächen zu erleichtern\, indem wissenschaftliches Wissen in praktisches Know-how umgesetzt wird\n\nDer Kongress 2026 wird an der Universität Neuchâtel organisiert\, die über alle für eine internationale Veranstaltung erforderlichen Einrichtungen verfügt. Der Veranstaltungsort wird auch den informellen Austausch zwischen den Teilnehmern erleichtern\, der ein Schlüsselelement für den Erfolg einer solchen Konferenz ist. \nSchwerpunkte \n\nAgroforstwirtschaft für Ernährungssicherheit in einer sich wandelnden Welt\n(Stichworte: Produktivität\, Klimaanpassung\, Pflanzenschutz\, Ernährungssysteme\, globaler Wandel)\nLandwirtfreundliche Agroforstwirtschaft\n(Stichworte: Beratung\, Subventionen und Politik\, Zertifizierung\, Technologie\, Digitalisierung\, Lebensqualität\, Landbesitz\, Generationengerechtigkeit)\nVersöhnung von Landwirtschaft und Natur\n(Stichworte: Biodiversität\, Klimaschutz\, Boden\, Wasser\, Landschaft\, Ökosystemleistungen)\n\nCall for Abstracts und Pre-Registrierung
URL:https://agroforst-info.de/event/euraf-2026/
LOCATION:Universität Neuchâtel\, Schweiz\, Neuchâtel\, Switzerland
ORGANIZER;CN="EURAF":MAILTO:info@europeanagroforestry.eu
END:VEVENT
BEGIN:VEVENT
DTSTART;TZID=Europe/Berlin:20260623T130000
DTEND;TZID=Europe/Berlin:20260625T160000
DTSTAMP:20260423T010251
CREATED:20251118T082752Z
LAST-MODIFIED:20260330T074326Z
UID:35097-1782219600-1782403200@agroforst-info.de
SUMMARY:Deutscher Landschaftspflegetag 2026 • Hessen
DESCRIPTION:Beginn: Dienstag\, 23. Juni 2026\, 13:00 Uhr\nEnde: Donnerstag\, 25. Juni 2026\, 16:00 Uhr\nOrt: Landkreis und Stadt Kassel\nGebühren: ja\n\nmit Verleihung des Deutschen Landschaftspflegepreises am Abend des 23. Juni \nDer Landschaftspflegetag ist eine Fachveranstaltung\, die sich rund um Naturschutz\, Landschaftspflege und nachhaltige Landnutzung dreht. Im Mittelpunkt stehen Vorträge\, Foren\, Diskussionen und Exkursionen\, bei denen Expertinnen und Experten aus Landwirtschaft\, Kommunen\, Behörden und Naturschutzorganisationen zusammenkommen. \nBioökonomie\, Beweidung\, die künftige Förderpolitik der Landwirtschaft oder die Chancen von Agroforst werden im Mittelpunkt der Tagung stehen.  \n— \nAgroforstwirtschaft beim Landschaftspflegetag: \n\nFachforum 4: Agroforst in der Praxis – Wie kann sich das lohnen? \nModeration: Corinna Friedrich \nMittwoch\, 24. Juni 2025\, 13.30 – 16.30 Uhr \nAgroforstsysteme versprechen viel: Erosionsschutz\, Kohlenstoffspeicherung\, Humusaufbau\, Biodiversität und Biotopvernetzung. Entscheidend ist jedoch\, wie Agroforstsysteme in der Praxis umgesetzt werden können. In diesem Fachforum liefern wir Antworten zu Fragen der landwirtschaftlichen Praxis\, Wirtschaftlichkeit und verwaltungstechnischen Umsetzung aus dem Projekt MODEMA – Modell- und Demonstrationsvorhaben Agroforst.\nExkursion 2: Streuobst\, Weiden\, Walnuss – Agroforst zwischen Artenvielfalt und Wertschöpfung \nDonnerstag\, 25.06.2026\, 9:00 bis 15:30 Uhr \n\n\n\n\nLeitung:\nLPV Landkreis Kassel e.V. und Corinna Friedrich\, DVL\n\n\nStart:\n9:00 Uhr\, Abfahrt Bus am Hotel La Strada\n\n\nEnde:\n15:30 Uhr\, Bahnhof Kassel-Wilhelmshöhe\n\n\nInhalte:\n1. Halt: Domäne Frankenhausen der Lehr- und Versuchsbetrieb der Uni Kassel für den Organischen Landbau \nAuf dem Betrieb sehen wir verschiedene Agroforstsysteme\, darunter ein Alley-Cropping Agroforstsystem mit Walnuss\, Haselnuss und Johannisbeeren\, ein Agroforstsystem mit Weiden sowie ein  Silvopastorales System mit Schattenbäume auf einer Weide.  Neben den Systemdesign werden Ergebnisse aus den Projekten „Integration von Naturschutzzielen in den Ökologischen Landbau“ (BfN-Projekt\, 2006-2010) sowie SALIX AFS „Etablierung und nachhaltige Produktion geeigneter Weidentypen mit spezifischen Material- und Wuchseigenschaften in multifunktionalen Agroforstsystemen (AFS)“ vorgestellt. Themen sind z.B.  Effekte von Agroforstsystemen auf Tagfalter\, Wildbienen\, Vögel\, Ackerwildkräuter sowie ökonomische Aspekte von Agroforstsystemen mit Weiden. \n-1 h Mittagspause auf Jüttes Weidberghof- \n2. Halt: Streuobstprojekt Vellmar\nIntakte Streuobstwiesen und -wege bieten zahlreichen Lebewesen Nahrungs- und Bruthabitate und sind wertvolle Strukturen für die Biotopvernetzung. Viele Streuobststrukturen werden aufgrund stetig schwindender sozialer und ökonomischer Bedeutung eher selten gepflegt. Der Landschaftspflegeverband Landkreis Kassel e.V. setzt gemeinsam mit interessierten Kommunen über eine GAK-Förderung Streuobstprojekte um\, deren Ziel es ist\, bestehende Streuobstwiesen und -wege wieder in einen guten Zustand zu versetzen und diese wieder in Nutzung zu bringen. Die Exkursion besucht Streuobststandorte im GAK-Projekt Vellmar und bietet Einblicke in die umgesetzten Maßnahmen. Zusammen wollen wir die Pflegemaßnahmen begutachten und über mögliche Wege für eine Renaissance der Streuobstkultivierung am Beispiel der Gemeinde Vellmar sprechen.\n\n\nFahrstrecke:\nca. 30 Minuten\, einfach\n\n\nVerpflegung:\nWasser\, Brotzeit am Weidberghof mit hofeigenem Käse\, Wurst vom Strohschwein und Eis aus eigener Produktion\n\n\nHinweis:\nNicht barrierefrei\, das Gepäck kann während der Exkursion im Bus verbleiben\, Sanitäranlagen auf Jüttes Weidberghof und Domäne Frankenhausen\n\n\n\n\n \n\nIm BMLEH geförderten Projekt MODEMA sind der DeFAF e.V. und der DVL e.V. Projektpartner. Der DVL e.V. führt Wissenstransferformaten außerhalb der festgelegten Modellregionen und zu Multiplikatoren durch. \n \n— \nHintergrund:\nLandschaftspflege ist die aktive und manchmal auch passive Bewirtschaftung\, die Landschaften\, Lebensräume und deren Artenreichtum langfristig erhält und fördert. Landschaftspflege ist im deutschen Bundesnaturschutzgesetz (BNatSchG) geregelt und bildet dort eine zentrale Säule zum Schutz und zur Entwicklung von Natur und Landschaft. Auch Vertragsnaturschutz und Pflege- und Entwicklungspläne gehören dazu. \n 
URL:https://agroforst-info.de/event/landschaftspflegetag-2026/
LOCATION:Kassel\, Kassel\, Hessen\, Germany
ATTACH;FMTTYPE=image/jpeg:https://agroforst-info.de/wp-content/uploads/2025/09/Eduard_Fischer_www.helixmedia.de_DSC04260_September2025-scaled.jpg
END:VEVENT
BEGIN:VEVENT
DTSTART;TZID=Europe/Berlin:20260624T150000
DTEND;TZID=Europe/Berlin:20260624T183000
DTSTAMP:20260423T010251
CREATED:20260326T100655Z
LAST-MODIFIED:20260326T100655Z
UID:38504-1782313200-1782325800@agroforst-info.de
SUMMARY:Feldtag "Agroforst nachhaltig etablieren"
DESCRIPTION:Auf dem Feldtag in Betzin bei der Agrargenosschenschaft „Ländchen Bellin“ wird eines von drei Agroforstsystemen vorgestellt\, welches im Rahmen des EIP-Projekts „Roots & Robots“ entstanden ist. Auf einer biologisch bewirtschafteten Fläche wurden im Dezember vergangenen Jahres 240 Esskastanien- und Walnussbäume im Alley Cropping Design gepflanzt. Das Agroforstsystem ist Teil eines wissenschaftlichen Versuchs der Hochschule für nachhaltige Entwicklung Eberswalde (HNEE)\, welche in Zusammenarbeit mit den Praxispartnern und der gemeinnützigen Klimapraxis gUG untersucht\, wie eine erfolgreiche Etablierung von Agroforstsystemen gelingen kann. Zusammen mit der Zauberzeug GmbH wird im Projekt zudem ein autonomer Roboter für die Pflege von Agroforstsystemen entwickelt. \nDer Feldtag bietet\n• die Möglichkeit zur Besichtigung des Agroforstsystems\,\n• einen Einblick in das wissenschaftliche Versuchsdesign zur Bewertung unterschiedlicher Wurzelqualitäten (wurzelnackt\, Container & Air-Pruning)\, Mykorrhiza und wasserspeichernden Pflanzgelen\,\n• einen Ausblick\, wie moderne Robotik die Pflege von Agroforstsystemen in der Zukunft vereinfachen könnte\,\n• hilfreiche Praxistipps und -werkzeuge für die Planung und Anlage von Agroforstsystemen\,\n• die Gelegenheit zum Austausch mit Praktiker*innen\, Wissenschaftler*innen\, Flächeneigentümer*innen\, Berater*innen und weiteren Interessierten sowie\n• einen gemütlichen Ausklang am Grill. \n  \nDie Anmeldung zum Feldtag ist ab Mai möglich (Anmeldelink folgt).
URL:https://agroforst-info.de/event/feldtag-agroforst-klimapraxis/
LOCATION:Agrargenossenschaft Ländchen Bellin eG\, Projektfläche in Betzin\, Betzin\, Brandenburg\, Germany
ORGANIZER;CN="Klimapraxis gUG":MAILTO:cindy.haist@klimapraxis.de
END:VEVENT
BEGIN:VEVENT
DTSTART;VALUE=DATE:20260625
DTEND;VALUE=DATE:20260626
DTSTAMP:20260423T010251
CREATED:20260317T072753Z
LAST-MODIFIED:20260317T072935Z
UID:38298-1782345600-1782431999@agroforst-info.de
SUMMARY:Klimalandschafts-Forum III • Niedersachsen
DESCRIPTION:„Wie gelingt der Wandel zu einer klimaresilienten\, vielfältigen und lebendigen Kulturlandschaft im Landkreis Wolfenbüttel – ganz konkret vor Ort?“ \nAufbauend auf den Ergebnissen des zweiten Forums – mit seinen sechs Werkräumen zu Wasser\, Boden\, Wertschöpfung und Menschen – wird Forum 3 die nächsten Umsetzungsschritte vertiefen und strategisch weiterentwickeln. Im Mittelpunkt steht dabei die Frage: Wie bringen wir gute Ideen in die Fläche – und schaffen echte Kooperation\, die trägt? \nDas Forum 3 ist am 25. Juni 2026 zu Gast im Fokusgebiet ‘Oderwald’\, um mit landkreisweiten Akteuren aus Landwirtschaft\, Kommunen\, Wasserwirtschaft\, Naturschutz\, Wirtschaft und Zivilgesellschaft weiterzuarbeiten: an Lösungen für Wasserrückhalt\, Bodenschutz\, Biodiversität und neue regionale Wertschöpfung.
URL:https://agroforst-info.de/event/klimalandschafts-forum-3/
END:VEVENT
BEGIN:VEVENT
DTSTART;VALUE=DATE:20260707
DTEND;VALUE=DATE:20260708
DTSTAMP:20260423T010251
CREATED:20250610T070220Z
LAST-MODIFIED:20250610T071341Z
UID:31192-1783382400-1783468799@agroforst-info.de
SUMMARY:Selektives Aufasten - Schonendes Aufasten von Agroforst-\, Allee- und Landschaftsbäumen
DESCRIPTION:Bäume an Straßen und Wegen\, auf Feldern\, Wiesen\, Weiden\, in Waldgärten\, Hof-\, oder Hausbäume\, Überhälter in Hecken oder Bäume auf Streuobstwiesen erfordern oft\, dass sich der Kronenansatz relativ weit oben befindet\, um darunter\, angepasst an die Unternutzung\, einen „lichten Raum“ und damit ein entsprechendes Lichtraumprofil zu schaffen. \n2026\nKurs I am 02.06.2026 in Erfurt/Thüringen\nKurs II am 07.07.2026 in Holzbunge/Schleswig Holstein\nmit Online-Seminar am 26.05.2026\, 19 Uhr \n  \nBeim selektiven Aufasten wird bei der Entfernung der unteren Äste auf den Wunddurchmesser und das Wundverhältnis geachtet\, wodurch die Baumgesundheit berücksichtigt und damit das Baumleben verlängert wird. Im Kurs wird diese schonende Möglichkeit des Aufastens gelehrt\, wobei die Teilnehmenden durch selbstständiges\, angeleitetes Schneiden bereits Praxiserfahrung sammeln können. \nWeitere Informationen und Buchung: https://www.obstbaumschnittschule.de/kurse/praesenz/selektives-aufasten-tageskurs/
URL:https://agroforst-info.de/event/selektives-aufasten-holzbunge-2/
LOCATION:Holzbunge
END:VEVENT
BEGIN:VEVENT
DTSTART;TZID=Europe/Berlin:20260823T143000
DTEND;TZID=Europe/Berlin:20260823T160000
DTSTAMP:20260423T010251
CREATED:20260223T121409Z
LAST-MODIFIED:20260223T121409Z
UID:37794-1787495400-1787500800@agroforst-info.de
SUMMARY:Waldgartenführung - Hof an den Teichen Lüneburg
DESCRIPTION:Entdecke den Waldgarten in Lüneburg \nDer Hof an den Teichen lädt herzlich zur nächsten Waldgarten-Führung ein! \nWann? Samstag\, 25. April\, 14:30–16:00 Uhr \nWer? Dr. Agnes Friedel von der Leuphana Universität Lüneburg\, die das Projekt wissenschaftlich begleitet\nTickets: https://www.lueneburgtickets.de/orte/hof-an-den-teichen \nDer Teilnahme-Beitrag fließt zu 100 % in den Aufbau und die Pflege des Waldgartens. \nDas Waldgartenprojekt zeigt\, wie mehrschichtig angelegte Systeme aus Obst- und Nussbäumen\, Beerensträuchern\, Kräutern und Bodendeckern den Aufbau eines Waldes nachahmen und damit zu Artenvielfalt\, gesundem Bodenleben und CO2-Bindung beitragen. Seit Oktober 2021 transformiert die Lüneburger Campus Stiftung einen Hektar Ackerland mit bodenverbessernden Maßnahmen. \nKomm vorbei und lass Dich von den Möglichkeiten eines Waldgartens inspirieren!
URL:https://agroforst-info.de/event/waldgartenfuehrung-hof-an-den-teichen-lueneburg-3/
LOCATION:Hof an den Teichen\, Heiligenthaler Str. 1\, Lüneburg\, 21335
ORGANIZER;CN="Campus Stiftung":MAILTO:bohlmann@campusstiftung.de
END:VEVENT
BEGIN:VEVENT
DTSTART;TZID=Europe/Berlin:20260913T143000
DTEND;TZID=Europe/Berlin:20260913T160000
DTSTAMP:20260423T010251
CREATED:20260223T121621Z
LAST-MODIFIED:20260223T121621Z
UID:37797-1789309800-1789315200@agroforst-info.de
SUMMARY:Waldgartenführung - Hof an den Teichen Lüneburg
DESCRIPTION:Entdecke den Waldgarten in Lüneburg \nDer Hof an den Teichen lädt herzlich zur nächsten Waldgarten-Führung ein! \nWann? Samstag\, 25. April\, 14:30–16:00 Uhr \nWer? Dr. Agnes Friedel von der Leuphana Universität Lüneburg\, die das Projekt wissenschaftlich begleitet\nTickets: https://www.lueneburgtickets.de/orte/hof-an-den-teichen \nDer Teilnahme-Beitrag fließt zu 100 % in den Aufbau und die Pflege des Waldgartens. \nDas Waldgartenprojekt zeigt\, wie mehrschichtig angelegte Systeme aus Obst- und Nussbäumen\, Beerensträuchern\, Kräutern und Bodendeckern den Aufbau eines Waldes nachahmen und damit zu Artenvielfalt\, gesundem Bodenleben und CO2-Bindung beitragen. Seit Oktober 2021 transformiert die Lüneburger Campus Stiftung einen Hektar Ackerland mit bodenverbessernden Maßnahmen. \nKomm vorbei und lass Dich von den Möglichkeiten eines Waldgartens inspirieren!
URL:https://agroforst-info.de/event/waldgartenfuehrung-hof-an-den-teichen-lueneburg-4/
LOCATION:Hof an den Teichen\, Heiligenthaler Str. 1\, Lüneburg\, 21335
ORGANIZER;CN="Campus Stiftung":MAILTO:bohlmann@campusstiftung.de
END:VEVENT
BEGIN:VEVENT
DTSTART;VALUE=DATE:20260929
DTEND;VALUE=DATE:20260930
DTSTAMP:20260423T010251
CREATED:20260225T103927Z
LAST-MODIFIED:20260225T104407Z
UID:37845-1790640000-1790726399@agroforst-info.de
SUMMARY:AGROFORST NETZWERK • MODEMA & Geschwisterprojekte • öffentliche Jahrestagung
DESCRIPTION:5 Vorhaben mit spezialisierten Untersuchungsansätzen in zehn Bundesländern auf mehr als 600 Hektar agroforstlichen Flächen bei etwa 50 Betrieben bilden das MEGA-AGROFORST-NETZWERK: \n\nAGROfloW • Schwerpunkte Wasserkreisläufe & interkommunale Kooperation\nDigAForst • Schwerpunkte Digitalisierung\, Kartierung\, Inventarisierung & Simulation\nMODEMA • Schwerpunkte vielfältige Pflanzungen mit Beforschung & Zentralkoordination\nPappelWERT • Schwerpunkte Pappelanbau & Wertschöpfungsketten\nSALIX AFS • Schwerpunkte Weidenanbau & Weideholzendlosfaden sowie Salizylate\n\nDie öffentliche Jahrestagung befindet sich in der Vorbereitung. Beiträge zum Programm werden gern von gernhardt[@]defaf.de entgegengenommen.
URL:https://agroforst-info.de/event/modema-jahrestagung/
LOCATION:Landwirtschaftskammer Niedersachsen\, Wunstorfer Landstraße 9\, Hannover\, Niedersachsen\, 30453\, Germany
ATTACH;FMTTYPE=image/jpeg:https://agroforst-info.de/wp-content/uploads/2025/09/250917_10.ForumAFS_cAnnett-56-scaled.jpg
ORGANIZER;CN="DeFAF Projekt MODEMA":MAILTO:gernhardt@defaf.de
END:VEVENT
BEGIN:VEVENT
DTSTART;VALUE=DATE:20261108
DTEND;VALUE=DATE:20261114
DTSTAMP:20260423T010251
CREATED:20260206T093015Z
LAST-MODIFIED:20260206T100645Z
UID:37181-1794096000-1794614399@agroforst-info.de
SUMMARY:Mitarbeitswoche Agroforst mit Simone Dehn
DESCRIPTION:Agroforstsysteme verbinden landwirtschaftliche Nutzung mit ökologischer Vielfalt – sie verbessern die Bodenfruchtbarkeit\, erhöhen die Wasserspeicherkapazität und schaffen wertvolle Lebensräume für Tiere und Pflanzen. \nIn unserer Mitarbeitswoche wollen wir gemeinsam eine neue Agroforst-Streifen auf einem 17 Hektar großen Acker anlegen\, bestehende Pflanzungen pflegen und die sichtbaren Erfolge der bisherigen ökologischen Aufwertungen mit allen Sinnen erleben. \nTeilnahme Betrag: 100€ \nFür Sozialermäßigte: 50€ \nDiese Veranstaltung gehört zu einer Veranstaltungsreihe des Ökodorfes Siebenlinden und wird von der Agroforstgruppe Sieben Linden\, sowie der DeFAF Mitarbeiterin Simone Dehn geleitet. \nZur Veranstaltung geht es hier. \n 
URL:https://agroforst-info.de/event/mitarbeitswoche-agroforst-mit-simone-dehn/
LOCATION:Ökodorf Sieben Linden\, Sieben Linden 1\, Beetzendorf\, 38489
END:VEVENT
BEGIN:VEVENT
DTSTART;VALUE=DATE:20261113
DTEND;VALUE=DATE:20261116
DTSTAMP:20260423T010251
CREATED:20260206T094901Z
LAST-MODIFIED:20260206T100744Z
UID:37185-1794528000-1794787199@agroforst-info.de
SUMMARY:Einführung Agroforst - was bewirken Bäume im Gemüsegarten\, auf Gründland und dem Acker? - mit Noemi Stadler-Kaulich
DESCRIPTION:Klimawandel\, Bodenerosion\, Dürre und zunehmender Verlust der biologischen Vielfalt – es gibt viele Gründe die Landwirtschaft nachhaltiger zu gestalten. Eine faszinierende Möglichkeit – mehrere Probleme werden gleichzeitig angepackt – ist die Agroforstwirtschaft. Auf derselben Fläche werden Bäume mit Gemüseanbau\, Ackerkulturen oder Grünland so miteinander kombiniert\, dass es für Landwirtschaft\, Natur und Klima gleichermaßen vorteilhaft ist. Je nach Bedürftigkeit des Bodens wird dafür easy- oder dynamischer Agroforst angewendet. \nIn diesem Wochenend-Seminar vermittelt die Agroforst-Expertin Noemi Stadler-Kaulich die Grundlagen der Agroforstwirtschaft von easy bis dynamisch. Mehrere Agroforstflächen werden besichtigt und analysiert. Eine Praxiseinheit bringt uns als Gruppe ins gemeinsame Tun und vertieft das Gelernte. Die Teilnehmenden sind in die Lage sich für oder gegen Agroforst zu entscheiden.\n\nTeilnahmebetrag: 249€\n\nFür Sozialermäßigte: 170€\n\nDiese Veranstaltung gehört zu einer Veranstaltungsreihe des Ökodorfes Siebenlinden und wird von Dipl.-Ing. Noemi Stadler-Kaulich geleitet.\n\nZur Anmeldung geht es hier.
URL:https://agroforst-info.de/event/einfuehrung-agroforst-was-bewirken-baeume-im-gemuesegarten-auf-gruendland-und-dem-acker-mit-noemi-stadler-kaulich/
LOCATION:Ökodorf Sieben Linden\, Sieben Linden 1\, Beetzendorf\, 38489
END:VEVENT
BEGIN:VEVENT
DTSTART;VALUE=DATE:20261115
DTEND;VALUE=DATE:20261121
DTSTAMP:20260423T010251
CREATED:20260206T100917Z
LAST-MODIFIED:20260206T100917Z
UID:37192-1794700800-1795219199@agroforst-info.de
SUMMARY:Praxisseminar Agroforst - Regenerative Landnutzung mit Noemi Stadler-Kaulich
DESCRIPTION:Bodenrestauration\, hohes Biomassewachstum\, gesunde Pflanzen und Resilienz gegenüber Trockenheit\, Starkregen\, Extremtemperaturen und Stürme auf dem 17 Ha bio-zertifizierten Nordacker mit seinen artenreichen Agroforststreifen mit Obst- und Nussbäumen\, Beerensträuchern und Begleitgehölzen. Zwischen den Gehölzstreifen findet mechanisierte Bodenbearbeitung statt und werden alljährlich Getreide und Ölfrüchte geerntet. Diese Agroforstfläche wird ständig erweitert – sei dabei\, lerne und pflanze mit uns. \nIn diesem Seminar geht es in Theorie und Praxis um:\n\nstrategische Planung von Agroforstflächen\nfachgerechte Baumpflanzung\nGehölzpflege nach der Pflanzung\nBaum- und Strauchschnitt\, auch Obstbaumschnitt\, zur Pflege von Agroforstflächen\nKöhlern und Anreicherung der Pflanzenkohle für ihre Anwendung (Terra Preta)\ndie Rentabilität von Agroforstflächen\ngemeinschaftliches Arbeiten im Agroforst unter fachlicher Anleitung\nDie Teilnehmenden sind in die Lage eine eigene Agroforstfläche zu implementieren\n\nTeilnahmebetrag: 390€ \nFür Sozialermäßigte: 270€ \nDiese Veranstaltung gehört zu einer Veranstaltungsreihe des Ökodorfes Siebenlinden und wird von Dipl.-Ing. Noemi Stadler-Kaulich geleitet.\n\nZur Anmeldung geht es hier.
URL:https://agroforst-info.de/event/praxisseminar-agroforst-regenerative-landnutzung-mit-noemi-stadler-kaulich/
LOCATION:Ökodorf Sieben Linden\, Sieben Linden 1\, Beetzendorf\, 38489
END:VEVENT
BEGIN:VEVENT
DTSTART;VALUE=DATE:20270915
DTEND;VALUE=DATE:20270918
DTSTAMP:20260423T010251
CREATED:20260318T113202Z
LAST-MODIFIED:20260318T113202Z
UID:38348-1820966400-1821225599@agroforst-info.de
SUMMARY:11. Forum Agroforstsysteme • Region Brandenburg / Berlin
DESCRIPTION:SAVE THE DATE • Die deutsche Agroforstszene trifft sich in Eberswalde nahe Berlin. \n——– \nTermin: Mitte September 2027 (noch nicht final) \n——– \nÖkologie trifft Ökonomie – von der Wurzel bis zur Wertschöpfung\nNachhaltige Transformation braucht starke Partnerschaften – seien Sie dabei!\nMitte September 2027 bringt das 11. Forum Agroforstsysteme in Eberswalde bis zu 400 Teilnehmende aus Wissenschaft\, Praxis\, Wirtschaft und Politik zusammen. Die Veranstaltung vereint Akteure aus der gesamten Landwirtschafts- und Ernährungsbranche sowie angrenzenden Bereichen wie Forstwirtschaft und Naturschutz. Sie deckt die gesamte agroforstliche Wertschöpfungskette ab – von Forschung und Innovation über landwirtschaftliche Betriebe und agroforstliche Bewirtschaftung bis hin zur Verarbeitung und Vermarktung nachhaltiger Produkte sowie den politischen Rahmenbedingungen. \nDiese interdisziplinäre Vielfalt macht das Forum zu einer einzigartigen Plattform für nachhaltige Lösungen und neue Geschäftsmöglichkeiten.\nNutzen Sie diese Gelegenheit\, Ihr Unternehmen als Vorreiter der Nachhaltigkeit zu positionieren – ob als Anbieter innovativer Technologien\, nachhaltiger Produkte oder engagierter Akteur der Transformation. Mit Ihrer Unterstützung gestalten wir den Wandel hin zu klimaresilienten\, ressourcenschonenden und wirtschaftlich tragfähigen Lösungen. Werden Sie Teil des 11. Forums Agroforstsysteme und vernetzen Sie sich mit führenden Köpfen einer nachhaltigen Zukunft! \nE-Mail-Kontakt: pr@defaf.de
URL:https://agroforst-info.de/event/2027-forum-agroforst/
ATTACH;FMTTYPE=image/png:https://agroforst-info.de/wp-content/uploads/2026/03/2027-Forum-AFS-Design.png
ORGANIZER;CN="DeFAF e.V.":MAILTO:schillem@defaf.de
END:VEVENT
END:VCALENDAR