Workbook

Sheet Kapitalwert+Annuität
A1: Neues Futterlaub-AFS, Rieckens Eichhof
A3: Hinweise: | B3: 1. Die primären Ziele dieses Agroforstsystems sind (1) Resilienz gegenüber Extremwetter, (2) mehr Tierwohl durch Windschutz & Schatten, (3) Bereitstellung von Zusatzfutter mit Mineralstoffen und Spurenelementen.
B4: 2. In der Kapitalwertrechnung bleiben betriebswirtschaftlich relevante Ökosystemleistungen wie Windschutz, Schatten und mehr Tierwohl in der Regel unberücksichtigt. In diesem Beispiel wird jedoch die Verlängerung der Weidezeit durch Windschutz konservativ monetarisiert. Hier wirken die drei neuen Agroforstsysteme – Obstsystem, Futterlaub und Windschutz – gemeinsam. Die durch eine verlängerte Weidezeit entstehende Arbeitszeitersparnis wird nur in diesem Rechenbeispiel berücksichtigt.
B5: 3. Zu den Erntemengen des gepflanzten Futterlaubs liegen bisher nur wenige Angaben vor.
E9: Zinssatz: | F9: =4% -> 0.04
E10: Betrachtungszeitraum: | F10: 25
I11: Erläuterungen:
B12: Jahr | C12: Einzahlungen (Erlöse) | D12: Auszahlungen (Investitionen) | E12: Netto-Cashflow (Einzahlung minus Auszahlung) | F12: Abzinsfaktor | G12: Barwert (heutiger Wert einer zukünftigen Zahlung) | I12: Bei dieser Berechnung wird ausschließlich der Baumstreifen betrachtet - nicht das gesamte Agroforstsystem. Er wird mithilfe der Kapitalwertmethode als Investition bewertet. Diese Methode prüft, ob sich eine langfristige Investition wirtschaftlich lohnt. Dazu werden alle künftig erwarteten Ein- und Auszahlungen, z.B. Pflegekosten, auf ihren heutigen Wert umgerechnet. Grundidee: Ein Euro heute ist mehr wert als ein Euro in der Zukunft, da verfügbares Geld alternativ angelegt und verzinst werden kann. Künftige Ein- und Auszahlungen werden deshalb mit einem Zinssatz auf den heutigen Zeitpunkt abgezinst. Sollen mehrere langfristige Investitionsmöglichkeiten – etwa verschiedene Gehölzarten im Baumstreifen oder eine alternative Geldanlage wie ein Festgeldkonto – verglichen werden, wird in der Regel die Option mit dem höchsten positiven Kapitalwert bevorzugt. Ökosystemleistungen werden in dieser Berechnung in der Regel nicht monetär berücksichtigt.
B13: 0 | C13: =Futterlaubstreifen!F43 -> 0 | D13: =Futterlaubstreifen!E43 -> 1559.5947 | E13: =C13-D13 -> -1559.5947 | F13: =1/(1+$F$9)^B13 -> 1 | G13: =E13*F13 -> -1559.5947
B14: 1 | C14: =Futterlaubstreifen!F57 -> 0 | D14: =Futterlaubstreifen!E57 -> 812.28621 | E14: =C14-D14 -> -812.28621 | F14: =1/(1+$F$9)^B14 -> 0.96153846 | G14: =E14*F14 -> -781.04443
B15: 2 | C15: =Futterlaubstreifen!F65 -> 0 | D15: =Futterlaubstreifen!E65 -> 357.63817 | E15: =C15-D15 -> -357.63817 | F15: =1/(1+$F$9)^B15 -> 0.92455621 | G15: =E15*F15 -> -330.65659
B16: 3 | C16: =Futterlaubstreifen!F67 -> 0 | D16: =Futterlaubstreifen!E67 -> 9.72774 | E16: =C16-D16 -> -9.72774 | F16: =1/(1+$F$9)^B16 -> 0.88899636 | G16: =E16*F16 -> -8.6479254
B17: 4 | C17: =Futterlaubstreifen!F69 -> 0 | D17: =Futterlaubstreifen!E69 -> 9.9222948 | E17: =C17-D17 -> -9.9222948 | F17: =1/(1+$F$9)^B17 -> 0.85480419 | G17: =E17*F17 -> -8.4816192
B18: 5 | C18: =Futterlaubstreifen!F73 -> 42.652012 | D18: =Futterlaubstreifen!E73 -> 255.956 | E18: =C18-D18 -> -213.30399 | F18: =1/(1+$F$9)^B18 -> 0.82192711 | G18: =E18*F18 -> -175.32033
B19: 6 | C19: =Futterlaubstreifen!F76 -> 21.965786 | D19: =Futterlaubstreifen!E76 -> 109.42545 | E19: =C19-D19 -> -87.459662 | F19: =1/(1+$F$9)^B19 -> 0.79031453 | G19: =E19*F19 -> -69.120642
B20: 7 | C20: =Futterlaubstreifen!F79 -> 22.62476 | D20: =Futterlaubstreifen!E79 -> 111.61396 | E20: =C20-D20 -> -88.989198 | F20: =1/(1+$F$9)^B20 -> 0.75991781 | G20: =E20*F20 -> -67.624477
B21: 8 | C21: =Futterlaubstreifen!F83 -> 57.928889 | D21: =Futterlaubstreifen!E83 -> 265.99142 | E21: =C21-D21 -> -208.06253 | F21: =1/(1+$F$9)^B21 -> 0.73069021 | G21: =E21*F21 -> -152.02925 | I21: Der Abzinsfaktor rechnet eine zukünftige Zahlung auf ihren heutigen Wert, den Barwert, zurück. Er berücksichtigt, dass ein Euro heute mehr wert ist als ein Euro in der Zukunft, da er bis dahin verzinst angelegt werden könnte.
B22: 9 | C22: =Futterlaubstreifen!F86 -> 29.833378 | D22: =Futterlaubstreifen!E86 -> 116.12316 | E22: =C22-D22 -> -86.289783 | F22: =1/(1+$F$9)^B22 -> 0.70258674 | G22: =E22*F22 -> -60.626057
B23: 10 | C23: =Futterlaubstreifen!F90 -> 1250.8525 | D23: =Futterlaubstreifen!E90 -> 118.44562 | E23: =C23-D23 -> 1132.4069 | F23: =1/(1+$F$9)^B23 -> 0.67556417 | G23: =E23*F23 -> 765.01352
B24: 11 | C24: =Futterlaubstreifen!F95 -> 1314.073 | D24: =Futterlaubstreifen!E95 -> 276.64108 | E24: =C24-D24 -> 1037.4319 | F24: =1/(1+$F$9)^B24 -> 0.64958093 | G24: =E24*F24 -> 673.89599
B25: 12 | C25: =Futterlaubstreifen!F99 -> 1302.14 | D25: =Futterlaubstreifen!E99 -> 123.23083 | E25: =C25-D25 -> 1178.9092 | F25: =1/(1+$F$9)^B25 -> 0.62459705 | G25: =E25*F25 -> 736.34319 | I25: Ein positiver Kapitalwert bedeutet, dass die geforderte Rendite von 4 % überstiegen wird. Ein Kapitalwert von null bedeutet, dass dieser Schwellenwert exakt erreicht wird.
B26: 13 | C26: =Futterlaubstreifen!F103 -> 1328.5725 | D26: =Futterlaubstreifen!E103 -> 125.69544 | E26: =C26-D26 -> 1202.8771 | F26: =1/(1+$F$9)^B26 -> 0.60057409 | G26: =E26*F26 -> 722.4168
B27: 14 | C27: =Futterlaubstreifen!F108 -> 1396.8899 | D27: =Futterlaubstreifen!E108 -> 287.9426 | E27: =C27-D27 -> 1108.9473 | F27: =1/(1+$F$9)^B27 -> 0.57747508 | G27: =E27*F27 -> 640.38943
B28: 15 | C28: =Futterlaubstreifen!F112 -> 1390.032 | D28: =Futterlaubstreifen!E112 -> 130.77354 | E28: =C28-D28 -> 1259.2584 | F28: =1/(1+$F$9)^B28 -> 0.5552645 | G28: =E28*F28 -> 699.2215
B29: 16 | C29: =Futterlaubstreifen!F116 -> 1418.3281 | D29: =Futterlaubstreifen!E116 -> 133.38901 | E29: =C29-D29 -> 1284.9391 | F29: =1/(1+$F$9)^B29 -> 0.53390818 | G29: =E29*F29 -> 686.03947 | I29: Die Annuität wandelt den auf 25 Jahre berechneten Kapitalwert in einen gleichbleibenden Jahresbetrag für denselben Zeitraum um. Sie ist besonders hilfreich, wenn sich Gehölze und Zahlungszeitpunkte stark unterscheiden.
B30: 17 | C30: =Futterlaubstreifen!F121 -> 1499.7695 | D30: =Futterlaubstreifen!E121 -> 299.93585 | E30: =C30-D30 -> 1199.8336 | F30: =1/(1+$F$9)^B30 -> 0.51337325 | G30: =E30*F30 -> 615.96249
B31: 18 | C31: =Futterlaubstreifen!F125 -> 1476.6747 | D31: =Futterlaubstreifen!E125 -> 138.77793 | E31: =C31-D31 -> 1337.8968 | F31: =1/(1+$F$9)^B31 -> 0.49362812 | G31: =E31*F31 -> 660.42348
B32: 19 | C32: =Futterlaubstreifen!F129 -> 1506.7496 | D32: =Futterlaubstreifen!E129 -> 141.55349 | E32: =C32-D32 -> 1365.1961 | F32: =1/(1+$F$9)^B32 -> 0.47464242 | G32: =E32*F32 -> 647.98001
B33: 20 | C33: =Futterlaubstreifen!F134 -> 1611.0233 | D33: =Futterlaubstreifen!E134 -> 312.66319 | E33: =C33-D33 -> 1298.3601 | F33: =1/(1+$F$9)^B33 -> 0.45638695 | G33: =E33*F33 -> 592.55458
B34: 21 | C34: =Futterlaubstreifen!F138 -> 1577.0788 | D34: =Futterlaubstreifen!E138 -> 147.27225 | E34: =C34-D34 -> 1429.8065 | F34: =1/(1+$F$9)^B34 -> 0.4388336 | G34: =E34*F34 -> 627.44716
B35: 22 | C35: =Futterlaubstreifen!F142 -> 1609.2951 | D35: =Futterlaubstreifen!E142 -> 150.21769 | E35: =C35-D35 -> 1459.0774 | F35: =1/(1+$F$9)^B35 -> 0.42195539 | G35: =E35*F35 -> 615.66558
B36: 23 | C36: =Futterlaubstreifen!F147 -> 1713.7604 | D36: =Futterlaubstreifen!E147 -> 326.16954 | E36: =C36-D36 -> 1387.5908 | F36: =1/(1+$F$9)^B36 -> 0.40572633 | G36: =E36*F36 -> 562.98214
B37: 24 | C37: =Futterlaubstreifen!F151 -> 1675.7354 | D37: =Futterlaubstreifen!E151 -> 156.28649 | E37: =C37-D37 -> 1519.4489 | F37: =1/(1+$F$9)^B37 -> 0.39012147 | G37: =E37*F37 -> 592.76964
B38: 25 | C38: =Futterlaubstreifen!F155 -> 1719.3441 | D38: =Futterlaubstreifen!E155 -> 159.41222 | E38: =C38-D38 -> 1559.9319 | F38: =1/(1+$F$9)^B38 -> 0.3751168 | G38: =E38*F38 -> 585.15665
B39: Summe | C39: =SUM(C13:C38) -> 23965.324 | D39: =SUM(D13:D38) -> 6636.6859 | E39: =SUM(E13:E38) -> 17328.638 | F39: Kapitalwert: | G39: =SUM(G13:G38) -> 7211.1156
F40: Annuität: | G40: =PMT($F$9,$F$10,-SUM(G13:G38)) -> 461.59766

Sheet Futterlaubstreifen
E1: Modell- und Demonstrationsvorhaben für die Planung und Etablierung von Agroforstsystemen in Schleswig-Holstein | K1: Wichtige offene F ragen:
E2: Arbeitszeitaufwand und Direktkosten: Futterlaubstreifen (207 m Länge), Rieckens Eichhof
B4: Arbeitsschritt wurde ausgeführt | G4: Planung
B5: Arbeitsschritt ist geplant | G5: Pflanzung
G6: Pflege
G7: Ernte
B8: Fachkraft - kalkulatorischer Lohnansatz in €: | D8: 22 | E8: Annahme: jährlicher Anstieg der Lohnkosten um 2%
B9: Hilfskraft - kalkulatorischer Lohnansatz in €: | D9: 13.9
J10: Arbeitskräfte & Arbeitszeit | Q10: Betriebsmittel
A11: Jahr | B11: Lohnkosten (kalkulatorischer Lohnansatz: € 22) | C11: Lohnkosten (kalkulatorischer Lohnansatz: € 13,9) | D11: Direktkosten | E11: Summe Auszahlungen | F11: Summe Einzahlungen | G11: Tätigkeit | H11: Beschreibung der Tätigkeit | I11: Datum | J11: Arbeitszeit in min inklusive Rüst- und Wegezeiten; Wegezeit: 5 min pro Weg | K11: Anzahl der beteiligten Fachkräfte | L11: Anzahl der beteiligten Hilfskräfte | M11: Arbeitsstunden Fachkräfte (Anzahl Arbeitskräfte * Arbeitszeit) | N11: Arbeitsstunden Hilfskräfte (Anzahl Arbeitskräfte * Arbeitszeit) | O11: Anmerkungen (z.B. unterschiedliche Arbeitszeiten/ Qualifikationen) | P11: Eingesetzte Maschinen, Geräte (Name, Typ, Größe und Funktion) | Q11: Betriebsmittel (z.B. Pflanzgut, Wuchshüllen, Wasser, Mulch, Dünger,...) | R11: Anzahl | S11: Netto-Preise | T11: Anmerkungen | U11: Quellen | V11: Erlöse
A12: 0 | G12: Planungsgespräch | H12: Planung: Erkenntnisse der Standortanalyse besprechen | I12: 45667 | J12: 20 | K12: 2 | M12: =J12*K12/60 -> 0.66666667 | N12: =J12*L12/60 -> 0 | P12: PC (Web-Meeting) | T12: Die Standortanalyse wurde für die drei neuen Agroforstsysteme gleichzeitig besprochen (jeweils ein Drittel der Gesamtzeit). Standortanalyse: dafür wurden Bodenproben auf 30-40 cm Tiefe an ca. 6 unterschiedlichen Orten auf der Koppel entnommen. Ziel: Gesamtüberblick über die Koppel - unterer Teil der Wiese (für die Obstgehölze), Hanglage (für das Futterlaub), windexponierte Hanglage (für die Windschutzhecke) & windgeschützte Hanglage als Vergleich. Planung der Futterlaubhecke: Erfahrungswerte aus dem alten System wurden besprochen und eine einreihige Anlage für bessere Arbeitswirtschaftlichkeit beschlossen. | U12: Eichhof, Beraterteam
A13: 0 | G13: Planungsgespräch | H13: Planungsziele schärfen und neue Ideen besprechen: Welchen Zweck soll das Agroforstsystem erfüllen? Design? Artenauswahl und Baumschutz besprechen | I13: 45685 | J13: 30 | K13: 2 | M13: =J13*K13/60 -> 1 | N13: =J13*L13/60 -> 0 | P13: PC (Web-Meeting) | U13: Eichhof, Beraterteam
A14: 0 | G14: Planungsgespräch | H14: Festlegen der Pflanzabstände, der Breite des Gehölzstreifens, der Baumauswahl | I14: 45853 | J14: 60 | K14: 2 | M14: =J14*K14/60 -> 2 | N14: =J14*L14/60 -> 0 | P14: Planungsskizzen | U14: Eichhof, Beraterteam
A15: 0 | G15: Planungsgespräch | H15: Absprachen zur Gasleitung mit Gasversorger | I15: 45901 | J15: 30 | K15: 1 | M15: =J15*K15/60 -> 0.5 | N15: =J15*L15/60 -> 0 | O15: 10 min Telefonat, 20 min Vor-Ort-Termin | T15: Telefonat; Vor-Ort-Termin mit Vertreter vom Gasnetz | U15: Eichhof
A16: 0 | G16: Auswahl der Pflanzen | H16: Auswahl der Pflanzen. Recherchen und Telefonate mit Baumschulen. | I16: 45950 | J16: 20 | K16: 1 | M16: =J16*K16/60 -> 0.33333333 | N16: =J16*L16/60 -> 0 | P16: PC, Telefon | T16: Futtterlaubgewächse wurden auf Basis eigener Erfahrungen und vorhandener Literatur ausgewählt. | U16: Eichhof
A17: 0 | G17: Auswahl und Bestellung der Pflanzen | H17: Abschliessende Baumschulrecherche und Auswahl der Pflanzen. Bestellvorgang. | I17: 45950 | J17: 50 | K17: 1 | M17: =J17*K17/60 -> 0.83333333 | N17: =J17*L17/60 -> 0 | P17: PC, Telefon | T17: Bestellung: Sommerlinden, Holunder, Eschen, Maulbeeren, Waldhasel | U17: Eichhof
A18: 0 | G18: Bestellung (Kosten) | M18: =J18*K18/60 -> 0 | N18: =J18*L18/60 -> 0 | Q18: Sommerlinden (Tilia platyphyllos) | R18: 20 | S18: =R18*0.95 -> 19 | T18: 1jährig, 15-30 cm, 0,95€/Stück. | U18: Eichhof
A19: 0 | G19: Bestellung (Kosten) | M19: =J19*K19/60 -> 0 | N19: =J19*L19/60 -> 0 | Q19: Schwarzer Holunder (Sambucus nigra) | R19: 50 | S19: =R19*2.07 -> 103.5 | T19: 2jährig, 30-50 cm, 2,05 €/Stück. | U19: Eichhof
A20: 0 | G20: Bestellung (Kosten) | M20: =J20*K20/60 -> 0 | N20: =J20*L20/60 -> 0 | Q20: Eschen (Fraxinus excelsior) | R20: 20 | S20: =R20*0.95 -> 19 | T20: 1jährig, 15-30 cm, 0,95€/Stück. | U20: Eichhof
A21: 0 | G21: Bestellung (Kosten) | M21: =J21*K21/60 -> 0 | N21: =J21*L21/60 -> 0 | Q21: Maulbeeren (Morus nigra) | R21: 30 | S21: =R21*2.43 -> 72.9 | T21: 2jährig, 30-50 cm, 2,43€/Stück. | U21: Eichhof
A22: 0 | G22: Bestellung (Kosten) | M22: =J22*K22/60 -> 0 | N22: =J22*L22/60 -> 0 | Q22: Himbeerpflanzen (eigene Zucht) | R22: 60 | S22: 0 | T22: Himbeeren aus dem eigenen Bestand vermehrt (gelbe Himbeere aus Witzenhausen ohne Zuchtschutz) | U22: Eichhof
A23: 0 | G23: Bestellung (Kosten) | M23: =J23*K23/60 -> 0 | N23: =J23*L23/60 -> 0 | Q23: Waldhasel (Corylus avellana) | R23: 30 | S23: =R23*0.86 -> 25.8 | T23: 1jährig, 15-30 cm, 0,86€/Stück. | U23: Eichhof
A24: 0 | G24: Bestellung (Kosten) | M24: =J24*K24/60 -> 0 | N24: =J24*L24/60 -> 0 | Q24: Versandkosten | R24: 2 | S24: =35+18.99 -> 53.99 | T24: Versand von 2 Baumschulen, anteilige Kosten | U24: Eichhof
A25: 0 | G25: Recherche Pflanzgut | H25: Recherche, Beantragung von Einzelgenehmigungen für Pflanzgut in konventioneller Qualität (OrganicXSeed-Datenbank) | I25: 45954 | J25: 75 | K25: 1 | M25: =J25*K25/60 -> 1.25 | N25: =J25*L25/60 -> 0 | P25: PC, Logindaten für OrganicXSeed | T25: Circa 2 Wochen bis zur Genehmigung einplanen, https://www.organicxseeds.de/# | U25: Eichhof
A26: 0 | Q26: Baumschutz: Hasendraht als Einzelbaumschutz | R26: 150 | S26: =R26*0.56/1.19 -> 70.588235 | T26: Feuerverzinktes Drahtgitter, 0,56€/Stk Brutto. Aus vorhandenen Betriebsmitteln. Hasendraht: 1 Rolle mit 1 m x 10 m --> 1 Schutz á 25 cm x 50 cm entspricht 80 Hasendrähten aus 10 m Rolle. Der Hasendraht wird ca. 2 cm in den Boden eingedreht für stabilen Halt, es sind keine weiteren Hilfsmittel notwendig. | U26: Eichhof
A27: 0 | G27: Bestellung (Kosten) | M27: =J27*K27/60 -> 0 | N27: =J27*L27/60 -> 0 | Q27: Baumschutz: Mobiler Steckzaun mit drei Litzen, doppelt gezogen | R27: 420 m | S27: =47.47*2/1.19 -> 79.781513 | T27: VOSS.farming Weidezaunlitze 420 m, 3x 0,25 Kupfer und 3x 0,20 Niro, weiß | U27: Eichhof
A28: 0 | G28: Bestellung (Kosten) | M28: =J28*K28/60 -> 0 | N28: =J28*L28/60 -> 0 | Q28: Baumschutz: Eichenpfähle | R28: 8 | S28: =R28*4.4 -> 35.2 | T28: Eichenbaumpfähle aus eigenem Bestand. 4,40 € / Stück (Netto). 180 cm Länge, 8-13 cm Durchmesser | U28: Eichhof
A29: 0 | G29: Bodenbearbeitung | H29: Tiefenlockerung: Lockerung möglicher Verdichtungen für einen besseren Anwuchs der Pflanzen | I29: 45852 | J29: 20 | K29: 1 | M29: =J29*K29/60 -> 0.33333333 | N29: =J29*L29/60 -> 0 | O29: Rücstzeit (3 AFS): 30 min | P29: Trecker (Fendt Vario), Bremer Parallellockerer | Q29: Maschinenkosten | R29: 27 €/h | S29: =0.33*27 -> 8.91 | T29: Der Arbeitsgang wurde für die drei neuen Agroforstsysteme gleichzeitig durchgeführt, anteilige Rüstzeit: 10 min | U29: Eichhof
A30: 0 | G30: Einmessen | H30: GPS-Einmessen und GIS Planung. | I30: 45930 | J30: 20 | K30: 1 | M30: =J30*K30/60 -> 0.33333333 | N30: =J30*L30/60 -> 0 | O30: 5 min Rüstzeit | P30: GPS Messgerät, PC (GIS-Planung) | T30: Beim Futterlaub wurden 11 Anfangspunkte für die Pflanzabschnitte eingemessen. Dann konnte von da aus in 1m Schritten gepflanzt werden. | U30: Eichhof
A31: 0 | G31: Fräsen | H31: Gehölzstreifen fräsen. Umbruch der Grasnarbe für die Etablierung der Futterlaubhecke. | I31: 45971 | J31: 65 | K31: 1 | M31: =J31*K31/60 -> 1.0833333 | N31: =J31*L31/60 -> 0 | O31: 40 min Rüstzeit | P31: 415 Fendt Vario, Howard Fräse mit 2 m Arbeitsbreite | Q31: Maschinenkosten | R31: 27 €/h | S31: =1*27 -> 27 | U31: Eichhof
A32: 0 | G32: Pflügen | H32: Gehölzstreifen für die Etablierung der jungen Pflanzen pflügen, Grasnarbe unterdrücken. | I32: 45971 | J32: 75 | K32: 1 | M32: =J32*K32/60 -> 1.25 | N32: =J32*L32/60 -> 0 | O32: 10 min Rüstzeit | P32: 415 Fendt Vario, Pflug | Q32: Maschinenkosten | R32: 27 €/h | S32: =1.25*27 -> 33.75 | U32: Eichhof
A33: 0 | G33: Mulchen | H33: Beladen des Futtermischwagens mit Silagegrünschnitt (nicht futtergeeignete Silage). Mulchmaterial wird zerkleinert und gemischt, dann mit dem Einstreugebläse des Futtermischwagens ausgebracht. Mit Forke verteilen. | I33: 45971 | J33: 170 | K33: 1 | L33: 1 | M33: =J33*K33/60 -> 2.8333333 | N33: =J33*L33/60 -> 2.8333333 | O33: Eine Person muss mitgehen und die jungen Gehölze von zu viel Mulch befreien. Arbeitsgeschwindigkeit 2-3 km/h. | P33: 415 Fendt Vario, Kramer Teleskoplader (110PS), Futtermischwagen, Forke | Q33: Maschinenkosten | R33: 27 €/h, 35 €/h | S33: =(27+35)*2.8 -> 173.6 | T33: Mulchmaterial; 10 Liter EMs - für Mulchung mit magerem Material | U33: Eichhof
A34: 0 | Q34: Mulchmaterial | R34: 16t | S34: 200 | T34: Mulchmaterial aus nicht verwertbaren Reststoffen | U34: Eichhof
A35: 0 | Q35: Effektive Mikroorganismen (EMs) | R35: 10 l | S35: =2*10 -> 20 | T35: € 2/l | U35: Eichhof
A36: 0 | G36: Pflanzgut verladen | H36: Pflanzen wurden durch Baumschule angeliefert und auf dem Hof verladen. Aufgrund niedriger Temperaturen wurden die Pflanzen in Heu eingeschlagen. | I36: 45977 | J36: 15 | K36: 1 | L36: 1 | M36: =J36*K36/60 -> 0.25 | N36: =J36*L36/60 -> 0.25 | P36: Spaten | Q36: Heu | R36: 1 Bund | S36: =3 -> 3 | T36: Das Einschlagen in Heu war eine spontane Lösung, um die Pflanzen vor Kälte zu schützen. Bund Heu: € 3 /Stück. | U36: Eichhof
A37: 0 | G37: Zwischenlager für Baumschulgehölze vorbereiten | H37: Einschlag vorbereiten: Graben ziehen auf ca. 20-30 cm. Dann Gehölze dort schräg einlegen und mit Erde füllen, damit sie wieder schnell entnommen werden können für die zeitverzögerte Pflanzung. | I37: 45978 | J37: 30 | K37: 1 | L37: 1 | M37: =J37*K37/60 -> 0.5 | N37: =J37*L37/60 -> 0.5 | P37: Spaten | U37: Eichhof
A38: 0 | G38: Vorbereitung der Pflanzung | H38: Heraussuchen: Baumschutz und benötigte Geräte. Transport von Betriebsmitteln, z.T. im Viehwagen. | I38: 45978 | J38: 15 | K38: 1 | L38: 1 | M38: =J38*K38/60 -> 0.25 | N38: =J38*L38/60 -> 0.25 | P38: Kramer Teleskoplader (110 PS), Viehwagen | Q38: Maschinenkosten | R38: 35 €/h | S38: =35*0.25 -> 8.75 | T38: Der Viehwagen ist während der gesamten Pflanzzeit auf der Wiese geblieben. Deshalb besteht bei den Pflanzungen die Rüstzeit i.d.R. nur aus dem Weg zur Fläche und dem Zusammensuchen der Materialien aus dem Viehwagen. | U38: Eichhof
A39: 0 | G39: Mulchen | H39: Holzhackschnitzel auf dem Baumstreifen verteilen. | I39: 45987 | J39: 60 | K39: 1 | M39: =J39*K39/60 -> 1 | N39: =J39*L39/60 -> 0 | P39: Spaten, Schubkarre | Q39: Holzhackschnitzel | R39: 4 Schub-karren | S39: 10 | T39: Die Holzhackschnitzel wurden mit der Schubkarre für die kleinen Baumscheiben transportiert. Das Mulchen wurde erst im Pflanzprozess vorgenommen. | U39: Eichhof
A40: 0 | G40: Pflanzpunkte einmessen, Pflanzung | H40: Pflanzpunkte einmessen und mit Robinienstäben markieren. Pflanzung von Futterlaubgehölzen (Holunder, Linden): Pflanzloch ausheben, Pflanzgut holen und setzen, Loch füllen, Baumschutz anbringen (kleiner Hasendraht) | J40: 100 | K40: 1 | L40: 1 | M40: =J40*K40/60 -> 1.6666667 | N40: =J40*L40/60 -> 1.6666667 | O40: 5 min Rüstzeit | P40: Messgerät RTK Calibrated Surveyor Kit, Spaten. | Q40: Pflanzgut, Baumschutz (Hasendraht). | R40: s.o. | T40: Mulchen mit Holzhackschnitzeln wurde in dem Schritt noch nicht gemacht. Messgeräte wurden zu Fuß/Fahrrad zum Feld transportiert | U40: Eichhof
A41: 0 | G41: Pflanzung | H41: Pflanzung von Futterlaubgehölzen (Holunder, Linden): Pflanzloch ausheben, Pflanzgut holen und setzen, Loch füllen, Baumschutz anbringen (Hasendraht) | I41: 45993 | J41: 215 | K41: 1 | L41: 1 | M41: =J41*K41/60 -> 3.5833333 | N41: =J41*L41/60 -> 3.5833333 | O41: Inkl. Einarbeitung einer Praktikantin (30 min). 5 min Rüstzeit. | P41: Spaten | Q41: Pflanzgut, Baumschutz (Hasendraht). | R41: s.o. | U41: Eichhof
...

Sheet Futterlauberlöse
A1: Futterlauberlöse (Laut Leitfaden wird ab Jahr 5 geerntet)
A2: Gibt es neue Erkenntnisse zu den Futterlauberträgen von Sommerlinden (Tilia platyphyllos), Holunder (Sambucus nigra), Eschen (Fraxinus excelsior), Maulbeeren (Morus nigra) und Waldhasel (Corylus avellana)? Bitte an oekonomie@defaf.de weiterleiten, um die Berechnungen zu aktualisieren.
A4: Baumstreifen: | B4: insg. 207 m Länge, 2 m Breite. Fläche: 414 m² = 0,04 ha
A6: Verwendung: | B6: Als Frischfutter im Sommer
A8: Seitentriebe: | B8: Motormanuelle Ernte der einjährigen Triebe in 3 Abschnitten = 69 m / Jahr = 0,014 ha
A9: Schneiteln: | B9: Kappung der Bäume auf 1,5-2m Höhe nach 3 Jahren
A11: Orientierungswert: | B11: 125 kg Laubreisig entspricht etwa 100 kg mittelgutem Wiesenheu | H11: Quelle: M. Machatschek, Laubgeschichten
A14: Holunder / Maulbeeren / Waldhasel (jährlich) | Q14: Baumart | R14: Anzahl
A15: 1,4 t TM pro ha und Jahr bei einer ungedüngten, dreijährigen Pflanzung als Futterlaub | H15: Quelle: https://revistas.uptc.edu.co/index.php/ciencia_en_desarrollo/article/download/9098/8635/33004 | Q15: Sommerlinden (Tilia platyphyllos) | R15: 20
A16: Da Holunder erst nach 6-7 Jahren ausgewachsen ist: ~ 3 t TM pro ha und Jahr ab Jahr 7 (ungedüngt) | Q16: Schwarzer Holunder (Sambucus nigra) | R16: 50
Q17: Eschen (Fraxinus excelsior) | R17: 20
A18: Maulbeeren, Waldhasel: | B18: werden aufgrund fehlender Daten wie Holunder gehandhabt. | Q18: Maulbeeren (Morus nigra) | R18: 30
Q19: Himbeerpflanzen (eigene Zucht)
A20: Anteil im Baumstreifen: | B20: 110 Pflanzen von insg. 150 Gehölzen = 73%. 73% der Fläche entspricht 0,03 ha (ein Drittel = 0,01 ha) | Q20: Waldhasel (Corylus avellana) | R20: 30
A21: Ertrag: | B21: 30 kg / Jahr auf 0,01 ha (bei 3 t TM/ ha & Jahr) | Q21: Summe: | R21: =SUM(R15:R20) -> 150
A22: Entspricht: | B22: Entspricht ~25 kg mittelgutem Wiesenheu (s.Machatschek) = 0,25 dt / Jahr | Q22: Holunder, Maulbeere, Hasel: | R22: =SUM(R16,R18,R20) -> 110
Q23: Sommerlinde, Eschen | R23: =SUM(R15,R17) -> 40
A24: Monetärer Wert extensiver Weide für Milchkühe: 14 € / dt TM & Jahr | H24: Quelle: https://www.lksh.de/fileadmin/PDFs/Landwirtschaft/Markt/Kalk_tier_25_26.pdf
A25: =0.25*14 -> 3.5 | B25: jährlich | C25: 3% jährlicher Preiszuwachs
A28: Sommerlinden, Eschen (jährlich)
A29: Esche: | B29: 16 kg TM pro Baum nach 10 Jahren | H29: Quelle: https://opera-connaissances.chambres-agriculture.fr/doc_num.php?explnum_id=207954
A30: Esche: | B30: 30 kg TM pro Baum nach 30 Jahren | H30: Quelle: https://www.agrarforschungschweiz.ch/wp-content/uploads/2025/04/Galland_Production_vegetale.pdf
A32: Linde: | B32: wird wie Esche gehandhabt (fehlende Daten)
A34: Insg. 40 Bäume, jährlich werden ein Drittel (13,3) beschnitten
A36: Annahme:
B37: kg TM / Jahr & Baum | C37: dt TM / Jahr: 13,3 Bäume | D37: in dt TM Wiesenheu | E37: 14 € /dt TM
A38: 5 Jahre | B38: 10 | C38: =B38*13.3/100 -> 1.33 | D38: =C38/1.25 -> 1.064 | E38: =14*D38 -> 14.896 | F38: 3% jährlicher Preiszuwachs
A39: 8 Jahre | B39: 13 | C39: =B39*13.3/100 -> 1.729 | D39: =C39/1.25 -> 1.3832 | E39: =14*D39 -> 19.3648
A40: 10 Jahre | B40: 16 | C40: =B40*13.3/100 -> 2.128 | D40: =C40/1.25 -> 1.7024 | E40: =14*D40 -> 23.8336
A41: 15 Jahre | B41: 19 | C41: =B41*13.3/100 -> 2.527 | D41: =C41/1.25 -> 2.0216 | E41: =14*D41 -> 28.3024
A42: 20 Jahre | B42: 22 | C42: =B42*13.3/100 -> 2.926 | D42: =C42/1.25 -> 2.3408 | E42: =14*D42 -> 32.7712
A43: 25 Jahre | B43: 25 | C43: =B43*13.3/100 -> 3.325 | D43: =C43/1.25 -> 2.66 | E43: =14*D43 -> 37.24
A46: Kappung auf 1,5 - 2 m Höhe alle 3 Jahre
A47: Die jährliche Erntemenge wird in diesen Jahren verdoppelt (Annahme)
A48: 3% jährlicher Preiszuwachs

Sheet Januar
A1: Januar | B1: 01.01. | C1: 02.01. | D1: 03.01. | E1: 04.01. | F1: 05.01. | G1: 06.01. | H1: 07.01. | I1: 08.01. | J1: 09.01. | K1: 10.01. | L1: 11.01. | M1: 12.01. | N1: 13.01. | O1: 14.01. | P1: 15.01. | Q1: 16.01. | R1: 17.01. | S1: 18.01. | T1: 19.01. | U1: 20.01. | V1: 21.01. | W1: 22.01. | X1: 23.01. | Y1: 24.01. | Z1: 25.01. | AA1: 26.01. | AB1: 27.01. | AC1: 28.01. | AD1: 29.01. | AE1: 30.01. | AF1: 31.01. | AG1: Gesamt
A2: Lebensmittel | AF2: 8 | AG2: Lebensmittel
AG6: =SUM(B2:AF6) -> 8
A7: auswärts essen | AF7: 10 | AG7: auswärts essen
AG10: =SUM(B7:AF10) -> 10
A11: Transport | AF11: 12 | AG11: Transport
AG14: =SUM(B11:AF14) -> 12
A15: Kleidung | AF15: 20 | AG15: Kleidung
AG19: =SUM(B15:AF19) -> 20
A20: Freizeit | AG20: Freizeit
AG24: =SUM(B20:AF24) -> 0
A25: Hygiene/Kosmetik | AG25: Hygiene/Kosmetik
AG29: =SUM(B25:AF29) -> 0
A30: Bildung | AG30: Bildung
AG34: =SUM(B30:AF34) -> 0
A35: ? | AG35: ?
AG37: =SUM(B35:AF37) -> 0
A38: ? | AG38: ?
AG40: =SUM(B38:AF40) -> 0
A41: Sonstiges | AG41: Sonstiges
AG44: =SUM(B41:AF44) -> 0
A45: TOTAL | B45: =SUM(B2:B44) -> 0 | C45: =SUM(C2:C44) -> 0 | D45: =SUM(D2:D44) -> 0 | E45: =SUM(E2:E44) -> 0 | F45: =SUM(F2:F44) -> 0 | G45: =SUM(G2:G44) -> 0 | H45: =SUM(H2:H44) -> 0 | I45: =SUM(I2:I44) -> 0 | ... AF45: =SUM(AF2:AF44) -> 50 | AG45: =SUM(B45:AF45) -> 50

Sheet Februar
A1: Februar | B1: 01.02. | C1: 02.02. | D1: 03.02. | E1: 04.02. | F1: 05.02. | G1: 06.02. | H1: 07.02. | I1: 08.02. | J1: 09.02. | K1: 10.02. | L1: 11.02. | M1: 12.02. | N1: 13.02. | O1: 14.02. | P1: 15.02. | Q1: 16.02. | R1: 17.02. | S1: 18.02. | T1: 19.02. | U1: 20.02. | V1: 21.02. | W1: 22.02. | X1: 23.02. | Y1: 24.02. | Z1: 25.02. | AA1: 26.02. | AB1: 27.02. | AC1: 28.02. | AD1: Gesamt
A2: Lebensmittel | AD2: Lebensmittel
AD6: =SUM(B2:AC6) -> 0
A7: auswärts essen | AD7: auswärts essen
AD10: =SUM(B7:AC10) -> 0
A11: Transport | AD11: Transport
AD14: =SUM(B11:AC14) -> 0
A15: Kleidung | AD15: Kleidung
AD19: =SUM(B15:AC19) -> 0
A20: Freizeit | AD20: Freizeit
AD24: =SUM(B20:AC24) -> 0
A25: Hygiene/Kosmetik | AD25: Hygiene/Kosmetik
AD29: =SUM(B25:AC29) -> 0
A30: Bildung | AD30: Bildung
AD34: =SUM(B30:AC34) -> 0
A35: ? | AD35: ?
AD37: =SUM(B35:AC37) -> 0
A38: ? | AD38: ?
AD40: =SUM(B38:AC40) -> 0
A41: Sonstiges | AD41: Sonstiges
AD44: =SUM(B41:AC44) -> 0
A45: TOTAL | B45: =SUM(B2:B44) -> 0 | C45: =SUM(C2:C44) -> 0 | D45: =SUM(D2:D44) -> 0 | E45: =SUM(E2:E44) -> 0 | F45: =SUM(F2:F44) -> 0 | G45: =SUM(G2:G44) -> 0 | H45: =SUM(H2:H44) -> 0 | I45: =SUM(I2:I44) -> 0 | ... AC45: =SUM(AC2:AC44) -> 0 | AD45: =SUM(B45:AC45) -> 0

Sheet März
A1: März | B1: 01.03. | C1: 02.03. | D1: 03.03. | E1: 04.03. | F1: 05.03. | G1: 06.03. | H1: 07.03. | I1: 08.03. | J1: 09.03. | K1: 10.03. | L1: 11.03. | M1: 12.03. | N1: 13.03. | O1: 14.03. | P1: 15.03. | Q1: 16.03. | R1: 17.03. | S1: 18.03. | T1: 19.03. | U1: 20.03. | V1: 21.03. | W1: 22.03. | X1: 23.03. | Y1: 24.03. | Z1: 25.03. | AA1: 26.03. | AB1: 27.03. | AC1: 28.03. | AD1: 29.03. | AE1: 30.03. | AF1: 31.03. | AG1: Gesamt
A2: Lebensmittel | AG2: Lebensmittel
AG6: =SUM(B2:AF6) -> 0
A7: auswärts essen | AG7: auswärts essen
AG10: =SUM(B7:AF10) -> 0
A11: Transport | AG11: Transport
AG14: =SUM(B11:AF14) -> 0
A15: Kleidung | AG15: Kleidung
AG19: =SUM(B15:AF19) -> 0
A20: Freizeit | AG20: Freizeit
AG24: =SUM(B20:AF24) -> 0
A25: Hygiene/Kosmetik | AG25: Hygiene/Kosmetik
AG29: =SUM(B25:AF29) -> 0
A30: Bildung | AG30: Bildung
AG34: =SUM(B30:AF34) -> 0
A35: ? | AG35: ?
AG37: =SUM(B35:AF37) -> 0
A38: ? | AG38: ?
AG40: =SUM(B38:AF40) -> 0
A41: Sonstiges | AG41: Sonstiges
AG44: =SUM(B41:AF44) -> 0
A45: TOTAL | B45: =SUM(B2:B44) -> 0 | C45: =SUM(C2:C44) -> 0 | D45: =SUM(D2:D44) -> 0 | E45: =SUM(E2:E44) -> 0 | F45: =SUM(F2:F44) -> 0 | G45: =SUM(G2:G44) -> 0 | H45: =SUM(H2:H44) -> 0 | I45: =SUM(I2:I44) -> 0 | ... AF45: =SUM(AF2:AF44) -> 0 | AG45: =SUM(B45:AF45) -> 0

Sheet April
A1: April | B1: 01.04. | C1: 02.04. | D1: 03.04. | E1: 04.04. | F1: 05.04. | G1: 06.04. | H1: 07.04. | I1: 08.04. | J1: 09.04. | K1: 10.04. | L1: 11.04. | M1: 12.04. | N1: 13.04. | O1: 14.04. | P1: 15.04. | Q1: 16.04. | R1: 17.04. | S1: 18.04. | T1: 19.04. | U1: 20.04. | V1: 21.04. | W1: 22.04. | X1: 23.04. | Y1: 24.04. | Z1: 25.04. | AA1: 26.04. | AB1: 27.04. | AC1: 28.04. | AD1: 29.04. | AE1: 30.04. | AF1: Gesamt
A2: Lebensmittel | AF2: Lebensmittel
AF6: =SUM(B2:AE6) -> 0
A7: auswärts essen | AF7: auswärts essen
AF10: =SUM(B7:AE10) -> 0
A11: Transport | AF11: Transport
AF14: =SUM(B11:AE14) -> 0
A15: Kleidung | AF15: Kleidung
AF19: =SUM(B15:AE19) -> 0
A20: Freizeit | AF20: Freizeit
AF24: =SUM(B20:AE24) -> 0
A25: Hygiene/Kosmetik | AF25: Hygiene/Kosmetik
AF29: =SUM(B25:AE29) -> 0
A30: Bildung | AF30: Bildung
AF34: =SUM(B30:AE34) -> 0
A35: ? | AF35: ?
AF37: =SUM(B35:AE37) -> 0
A38: ? | AF38: ?
AF40: =SUM(B38:AE40) -> 0
A41: Sonstiges | AF41: Sonstiges
AF44: =SUM(B41:AE44) -> 0
A45: TOTAL | B45: =SUM(B2:B44) -> 0 | C45: =SUM(C2:C44) -> 0 | D45: =SUM(D2:D44) -> 0 | E45: =SUM(E2:E44) -> 0 | F45: =SUM(F2:F44) -> 0 | G45: =SUM(G2:G44) -> 0 | H45: =SUM(H2:H44) -> 0 | I45: =SUM(I2:I44) -> 0 | ... AE45: =SUM(AE2:AE44) -> 0 | AF45: =SUM(B45:AE45) -> 0

Sheet Mai
A1: Mai | B1: 01.05. | C1: 02.05. | D1: 03.05. | E1: 04.05. | F1: 05.05. | G1: 06.05. | H1: 07.05. | I1: 08.05. | J1: 09.05. | K1: 10.05. | L1: 11.05. | M1: 12.05. | N1: 13.05. | O1: 14.05. | P1: 15.05. | Q1: 16.05. | R1: 17.05. | S1: 18.05. | T1: 19.05. | U1: 20.05. | V1: 21.05. | W1: 22.05. | X1: 23.05. | Y1: 24.05. | Z1: 25.05. | AA1: 26.05. | AB1: 27.05. | AC1: 28.05. | AD1: 29.05. | AE1: 30.05. | AF1: 31.05. | AG1: Gesamt
A2: Lebensmittel | AG2: Lebensmittel
AG6: =SUM(B2:AF6) -> 0
A7: auswärts essen | AG7: auswärts essen
AG10: =SUM(B7:AF10) -> 0
A11: Transport | AG11: Transport
AG14: =SUM(B11:AF14) -> 0
A15: Kleidung | AG15: Kleidung
AG19: =SUM(B15:AF19) -> 0
A20: Freizeit | AG20: Freizeit
AG24: =SUM(B20:AF24) -> 0
A25: Hygiene/Kosmetik | AG25: Hygiene/Kosmetik
AG29: =SUM(B25:AF29) -> 0
A30: Bildung | AG30: Bildung
AG34: =SUM(B30:AF34) -> 0
A35: ? | AG35: ?
AG37: =SUM(B35:AF37) -> 0
A38: ? | AG38: ?
AG40: =SUM(B38:AF40) -> 0
A41: Sonstiges | AG41: Sonstiges
AG44: =SUM(B41:AF44) -> 0
A45: TOTAL | B45: =SUM(B2:B44) -> 0 | C45: =SUM(C2:C44) -> 0 | D45: =SUM(D2:D44) -> 0 | E45: =SUM(E2:E44) -> 0 | F45: =SUM(F2:F44) -> 0 | G45: =SUM(G2:G44) -> 0 | H45: =SUM(H2:H44) -> 0 | I45: =SUM(I2:I44) -> 0 | ... AF45: =SUM(AF2:AF44) -> 0 | AG45: =SUM(B45:AF45) -> 0

Sheet Juni
A1: Juni | B1: 01.06. | C1: 02.06. | D1: 03.06. | E1: 04.06. | F1: 05.06. | G1: 06.06. | H1: 07.06. | I1: 08.06. | J1: 09.06. | K1: 10.06. | L1: 11.06. | M1: 12.06. | N1: 13.06. | O1: 14.06. | P1: 15.06. | Q1: 16.06. | R1: 17.06. | S1: 18.06. | T1: 19.06. | U1: 20.06. | V1: 21.06. | W1: 22.06. | X1: 23.06. | Y1: 24.06. | Z1: 25.06. | AA1: 26.06. | AB1: 27.06. | AC1: 28.06. | AD1: 29.06. | AE1: 30.06. | AF1: Gesamt
A2: Lebensmittel | AF2: Lebensmittel
AF6: =SUM(B2:AE6) -> 0
A7: auswärts essen | AF7: auswärts essen
AF10: =SUM(B7:AE10) -> 0
A11: Transport | AF11: Transport
AF14: =SUM(B11:AE14) -> 0
A15: Kleidung | AF15: Kleidung
AF19: =SUM(B15:AE19) -> 0
A20: Freizeit | AF20: Freizeit
AF24: =SUM(B20:AE24) -> 0
A25: Hygiene/Kosmetik | AF25: Hygiene/Kosmetik
AF29: =SUM(B25:AE29) -> 0
A30: Bildung | AF30: Bildung
AF34: =SUM(B30:AE34) -> 0
A35: ? | AF35: ?
AF37: =SUM(B35:AE37) -> 0
A38: ? | AF38: ?
AF40: =SUM(B38:AE40) -> 0
A41: Sonstiges | AF41: Sonstiges
AF44: =SUM(B41:AE44) -> 0
A45: TOTAL | B45: =SUM(B2:B44) -> 0 | C45: =SUM(C2:C44) -> 0 | D45: =SUM(D2:D44) -> 0 | E45: =SUM(E2:E44) -> 0 | F45: =SUM(F2:F44) -> 0 | G45: =SUM(G2:G44) -> 0 | H45: =SUM(H2:H44) -> 0 | I45: =SUM(I2:I44) -> 0 | ... AE45: =SUM(AE2:AE44) -> 0 | AF45: =SUM(B45:AE45) -> 0

Sheet Juli
A1: Juli | B1: 01.07. | C1: 02.07. | D1: 03.07. | E1: 04.07. | F1: 05.07. | G1: 06.07. | H1: 07.07. | I1: 08.07. | J1: 09.07. | K1: 10.07. | L1: 11.07. | M1: 12.07. | N1: 13.07. | O1: 14.07. | P1: 15.07. | Q1: 16.07. | R1: 17.07. | S1: 18.07. | T1: 19.07. | U1: 20.07. | V1: 21.07. | W1: 22.07. | X1: 23.07. | Y1: 24.07. | Z1: 25.07. | AA1: 26.07. | AB1: 27.07. | AC1: 28.07. | AD1: 29.07. | AE1: 30.07. | AF1: 31.07. | AG1: Gesamt
A2: Lebensmittel | AG2: Lebensmittel
AG6: =SUM(B2:AF6) -> 0
A7: auswärts essen | AG7: auswärts essen
AG10: =SUM(B7:AF10) -> 0
A11: Transport | AG11: Transport
AG14: =SUM(B11:AF14) -> 0
A15: Kleidung | AG15: Kleidung
AG19: =SUM(B15:AF19) -> 0
A20: Freizeit | AG20: Freizeit
AG24: =SUM(B20:AF24) -> 0
A25: Hygiene/Kosmetik | AG25: Hygiene/Kosmetik
AG29: =SUM(B25:AF29) -> 0
A30: Bildung | AG30: Bildung
AG34: =SUM(B30:AF34) -> 0
A35: ? | AG35: ?
AG37: =SUM(B35:AF37) -> 0
A38: ? | AG38: ?
AG40: =SUM(B38:AF40) -> 0
A41: Sonstiges | AG41: Sonstiges
AG44: =SUM(B41:AF44) -> 0
A45: TOTAL | B45: =SUM(B2:B44) -> 0 | C45: =SUM(C2:C44) -> 0 | D45: =SUM(D2:D44) -> 0 | E45: =SUM(E2:E44) -> 0 | F45: =SUM(F2:F44) -> 0 | G45: =SUM(G2:G44) -> 0 | H45: =SUM(H2:H44) -> 0 | I45: =SUM(I2:I44) -> 0 | ... AF45: =SUM(AF2:AF44) -> 0 | AG45: =SUM(B45:AF45) -> 0

Sheet August
A1: August | B1: 01.08. | C1: 02.08. | D1: 03.08. | E1: 04.08. | F1: 05.08. | G1: 06.08. | H1: 07.08. | I1: 08.08. | J1: 09.08. | K1: 10.08. | L1: 11.08. | M1: 12.08. | N1: 13.08. | O1: 14.08. | P1: 15.08. | Q1: 16.08. | R1: 17.08. | S1: 18.08. | T1: 19.08. | U1: 20.08. | V1: 21.08. | W1: 22.08. | X1: 23.08. | Y1: 24.08. | Z1: 25.08. | AA1: 26.08. | AB1: 27.08. | AC1: 28.08. | AD1: 29.08. | AE1: 30.08. | AF1: 31.08. | AG1: Gesamt
A2: Lebensmittel | AG2: Lebensmittel
AG6: =SUM(B2:AF6) -> 0
A7: auswärts essen | AG7: auswärts essen
AG10: =SUM(B7:AF10) -> 0
A11: Transport | AG11: Transport
AG14: =SUM(B11:AF14) -> 0
A15: Kleidung | AG15: Kleidung
AG19: =SUM(B15:AF19) -> 0
A20: Freizeit | AG20: Freizeit
AG24: =SUM(B20:AF24) -> 0
A25: Hygiene/Kosmetik | AG25: Hygiene/Kosmetik
AG29: =SUM(B25:AF29) -> 0
A30: Bildung | AG30: Bildung
AG34: =SUM(B30:AF34) -> 0
A35: ? | AG35: ?
AG37: =SUM(B35:AF37) -> 0
A38: ? | AG38: ?
AG40: =SUM(B38:AF40) -> 0
A41: Sonstiges | AG41: Sonstiges
AG44: =SUM(B41:AF44) -> 0
A45: TOTAL | B45: =SUM(B2:B44) -> 0 | C45: =SUM(C2:C44) -> 0 | D45: =SUM(D2:D44) -> 0 | E45: =SUM(E2:E44) -> 0 | F45: =SUM(F2:F44) -> 0 | G45: =SUM(G2:G44) -> 0 | H45: =SUM(H2:H44) -> 0 | I45: =SUM(I2:I44) -> 0 | ... AF45: =SUM(AF2:AF44) -> 0 | AG45: =SUM(B45:AF45) -> 0

Sheet September
A1: September | B1: 01.09. | C1: 02.09. | D1: 03.09. | E1: 04.09. | F1: 05.09. | G1: 06.09. | H1: 07.09. | I1: 08.09. | J1: 09.09. | K1: 10.09. | L1: 11.09. | M1: 12.09. | N1: 13.09. | O1: 14.09. | P1: 15.09. | Q1: 16.09. | R1: 17.09. | S1: 18.09. | T1: 19.09. | U1: 20.09. | V1: 21.09. | W1: 22.09. | X1: 23.09. | Y1: 24.09. | Z1: 25.09. | AA1: 26.09. | AB1: 27.09. | AC1: 28.09. | AD1: 29.09. | AE1: 30.09. | AF1: Gesamt
A2: Lebensmittel | AF2: Lebensmittel
AF6: =SUM(B2:AE6) -> 0
A7: auswärts essen | AF7: auswärts essen
AF10: =SUM(B7:AE10) -> 0
A11: Transport | AF11: Transport
AF14: =SUM(B11:AE14) -> 0
A15: Kleidung | AF15: Kleidung
AF19: =SUM(B15:AE19) -> 0
A20: Freizeit | AF20: Freizeit
AF24: =SUM(B20:AE24) -> 0
A25: Hygiene/Kosmetik | AF25: Hygiene/Kosmetik
AF29: =SUM(B25:AE29) -> 0
A30: Bildung | AF30: Bildung
AF34: =SUM(B30:AE34) -> 0
A35: ? | AF35: ?
AF37: =SUM(B35:AE37) -> 0
A38: ? | AF38: ?
AF40: =SUM(B38:AE40) -> 0
A41: Sonstiges | AF41: Sonstiges
AF44: =SUM(B41:AE44) -> 0
A45: TOTAL | B45: =SUM(B2:B44) -> 0 | C45: =SUM(C2:C44) -> 0 | D45: =SUM(D2:D44) -> 0 | E45: =SUM(E2:E44) -> 0 | F45: =SUM(F2:F44) -> 0 | G45: =SUM(G2:G44) -> 0 | H45: =SUM(H2:H44) -> 0 | I45: =SUM(I2:I44) -> 0 | ... AE45: =SUM(AE2:AE44) -> 0 | AF45: =SUM(B45:AE45) -> 0

Sheet Oktober
A1: Oktober | B1: 01.10. | C1: 02.10. | D1: 03.10. | E1: 04.10. | F1: 05.10. | G1: 06.10. | H1: 07.10. | I1: 08.10. | J1: 09.10. | K1: 10.10. | L1: 11.10. | M1: 12.10. | N1: 13.10. | O1: 14.10. | P1: 15.10. | Q1: 16.10. | R1: 17.10. | S1: 18.10. | T1: 19.10. | U1: 20.10. | V1: 21.10. | W1: 22.10. | X1: 23.10. | Y1: 24.10. | Z1: 25.10. | AA1: 26.10. | AB1: 27.10. | AC1: 28.10. | AD1: 29.10. | AE1: 30.10. | AF1: 31.10. | AG1: Gesamt
A2: Lebensmittel | AG2: Lebensmittel
AG6: =SUM(B2:AF6) -> 0
A7: auswärts essen | AG7: auswärts essen
AG10: =SUM(B7:AF10) -> 0
A11: Transport | AG11: Transport
AG14: =SUM(B11:AF14) -> 0
A15: Kleidung | AG15: Kleidung
AG19: =SUM(B15:AF19) -> 0
A20: Freizeit | AG20: Freizeit
AG24: =SUM(B20:AF24) -> 0
A25: Hygiene/Kosmetik | AG25: Hygiene/Kosmetik
AG29: =SUM(B25:AF29) -> 0
A30: Bildung | AG30: Bildung
AG34: =SUM(B30:AF34) -> 0
A35: ? | AG35: ?
AG37: =SUM(B35:AF37) -> 0
A38: ? | AG38: ?
AG40: =SUM(B38:AF40) -> 0
A41: Sonstiges | AG41: Sonstiges
AG44: =SUM(B41:AF44) -> 0
A45: TOTAL | B45: =SUM(B2:B44) -> 0 | C45: =SUM(C2:C44) -> 0 | D45: =SUM(D2:D44) -> 0 | E45: =SUM(E2:E44) -> 0 | F45: =SUM(F2:F44) -> 0 | G45: =SUM(G2:G44) -> 0 | H45: =SUM(H2:H44) -> 0 | I45: =SUM(I2:I44) -> 0 | ... AF45: =SUM(AF2:AF44) -> 0 | AG45: =SUM(B45:AF45) -> 0

Sheet November
A1: November | B1: 01.11. | C1: 02.11. | D1: 03.11. | E1: 04.11. | F1: 05.11. | G1: 06.11. | H1: 07.11. | I1: 08.11. | J1: 09.11. | K1: 10.11. | L1: 11.11. | M1: 12.11. | N1: 13.11. | O1: 14.11. | P1: 15.11. | Q1: 16.11. | R1: 17.11. | S1: 18.11. | T1: 19.11. | U1: 20.11. | V1: 21.11. | W1: 22.11. | X1: 23.11. | Y1: 24.11. | Z1: 25.11. | AA1: 26.11. | AB1: 27.11. | AC1: 28.11. | AD1: 29.11. | AE1: 30.11. | AF1: Gesamt
A2: Lebensmittel | AF2: Lebensmittel
AF6: =SUM(B2:AE6) -> 0
A7: auswärts essen | AF7: auswärts essen
AF10: =SUM(B7:AE10) -> 0
A11: Transport | AF11: Transport
AF14: =SUM(B11:AE14) -> 0
A15: Kleidung | AF15: Kleidung
AF19: =SUM(B15:AE19) -> 0
A20: Freizeit | AF20: Freizeit
AF24: =SUM(B20:AE24) -> 0
A25: Hygiene/Kosmetik | AF25: Hygiene/Kosmetik
AF29: =SUM(B25:AE29) -> 0
A30: Bildung | AF30: Bildung
AF34: =SUM(B30:AE34) -> 0
A35: ? | AF35: ?
AF37: =SUM(B35:AE37) -> 0
A38: ? | AF38: ?
AF40: =SUM(B38:AE40) -> 0
A41: Sonstiges | AF41: Sonstiges
AF44: =SUM(B41:AE44) -> 0
A45: TOTAL | B45: =SUM(B2:B44) -> 0 | C45: =SUM(C2:C44) -> 0 | D45: =SUM(D2:D44) -> 0 | E45: =SUM(E2:E44) -> 0 | F45: =SUM(F2:F44) -> 0 | G45: =SUM(G2:G44) -> 0 | H45: =SUM(H2:H44) -> 0 | I45: =SUM(I2:I44) -> 0 | ... AE45: =SUM(AE2:AE44) -> 0 | AF45: =SUM(B45:AE45) -> 0

Sheet Dezember
A1: Dezember | B1: 01.12. | C1: 02.12. | D1: 03.12. | E1: 04.12. | F1: 05.12. | G1: 06.12. | H1: 07.12. | I1: 08.12. | J1: 09.12. | K1: 10.12. | L1: 11.12. | M1: 12.12. | N1: 13.12. | O1: 14.12. | P1: 15.12. | Q1: 16.12. | R1: 17.12. | S1: 18.12. | T1: 19.12. | U1: 20.12. | V1: 21.12. | W1: 22.12. | X1: 23.12. | Y1: 24.12. | Z1: 25.12. | AA1: 26.12. | AB1: 27.12. | AC1: 28.12. | AD1: 29.12. | AE1: 30.12. | AF1: 31.12. | AG1: Gesamt
A2: Lebensmittel | AG2: Lebensmittel
AG6: =SUM(B2:AF6) -> 0
A7: auswärts essen | AG7: auswärts essen
AG10: =SUM(B7:AF10) -> 0
A11: Transport | AG11: Transport
AG14: =SUM(B11:AF14) -> 0
A15: Kleidung | AG15: Kleidung
AG19: =SUM(B15:AF19) -> 0
A20: Freizeit | AG20: Freizeit
AG24: =SUM(B20:AF24) -> 0
A25: Hygiene/Kosmetik | AG25: Hygiene/Kosmetik
AG29: =SUM(B25:AF29) -> 0
A30: Bildung | AG30: Bildung
AG34: =SUM(B30:AF34) -> 0
A35: ? | AG35: ?
AG37: =SUM(B35:AF37) -> 0
A38: ? | AG38: ?
AG40: =SUM(B38:AF40) -> 0
A41: Sonstiges | AG41: Sonstiges
AG44: =SUM(B41:AF44) -> 0
A45: TOTAL | B45: =SUM(B2:B44) -> 0 | C45: =SUM(C2:C44) -> 0 | D45: =SUM(D2:D44) -> 0 | E45: =SUM(E2:E44) -> 0 | F45: =SUM(F2:F44) -> 0 | G45: =SUM(G2:G44) -> 0 | H45: =SUM(H2:H44) -> 0 | I45: =SUM(I2:I44) -> 0 | ... AF45: =SUM(AF2:AF44) -> 0 | AG45: =SUM(B45:AF45) -> 0
